BEGIN:VCALENDAR
VERSION:2.0
PRODID:-//wp-events-plugin.com//7.2.2.1//EN
TZID:Europe/Berlin
X-WR-TIMEZONE:Europe/Berlin
BEGIN:VEVENT
UID:1769@test.solawi-ruetiwies.ch
DTSTART;TZID=Europe/Berlin:20251203T080000
DTEND;TZID=Europe/Berlin:20251203T100000
DTSTAMP:20241216T074404Z
URL:https://test.solawi-ruetiwies.ch/events/abpacken-5-2025-12-03/
SUMMARY:Abpacken
DESCRIPTION:
ATTACH;FMTTYPE=image/jpeg:https://test.solawi-ruetiwies.ch/wp-content/uplo
 ads/2020/03/ruetiwies-chischtli.png
CATEGORIES:Abpacken,verschiedene Arbeitseinsätze
LOCATION:Solawi Rütiwies\, Rütiwies 1067\, Algetshausen\, 9249\, Schweiz
X-APPLE-STRUCTURED-LOCATION;VALUE=URI;X-ADDRESS=Rütiwies 1067\, Algetshaus
 en\, 9249\, Schweiz;X-APPLE-RADIUS=100;X-TITLE=Solawi Rütiwies:geo:0,0
END:VEVENT
BEGIN:VTIMEZONE
TZID:Europe/Berlin
X-LIC-LOCATION:Europe/Berlin
BEGIN:STANDARD
DTSTART:20251026T020000
TZOFFSETFROM:+0200
TZOFFSETTO:+0100
TZNAME:CET
END:STANDARD
END:VTIMEZONE
END:VCALENDAR