BEGIN:VCALENDAR
VERSION:2.0
PRODID:-//wp-events-plugin.com//7.2.2.1//EN
TZID:Europe/Berlin
X-WR-TIMEZONE:Europe/Berlin
BEGIN:VEVENT
UID:1776@test.solawi-ruetiwies.ch
DTSTART;TZID=Europe/Berlin:20250301T140000
DTEND;TZID=Europe/Berlin:20250301T160000
DTSTAMP:20250113T123437Z
URL:https://test.solawi-ruetiwies.ch/events/infoanlass-2/
SUMMARY:Infoanlass
DESCRIPTION:Wir stellen dir den Hof und die SOLAWI Rütiwies vor!
CATEGORIES:Infoveranstaltung
LOCATION:Solawi Rütiwies\, Rütiwies 1067\, Algetshausen\, 9249\, Schweiz
X-APPLE-STRUCTURED-LOCATION;VALUE=URI;X-ADDRESS=Rütiwies 1067\, Algetshaus
 en\, 9249\, Schweiz;X-APPLE-RADIUS=100;X-TITLE=Solawi Rütiwies:geo:0,0
END:VEVENT
BEGIN:VTIMEZONE
TZID:Europe/Berlin
X-LIC-LOCATION:Europe/Berlin
BEGIN:STANDARD
DTSTART:20241027T020000
TZOFFSETFROM:+0200
TZOFFSETTO:+0100
TZNAME:CET
END:STANDARD
END:VTIMEZONE
END:VCALENDAR