BEGIN:VCALENDAR
VERSION:2.0
PRODID:-//wp-events-plugin.com//7.2.2.1//EN
TZID:Europe/Berlin
X-WR-TIMEZONE:Europe/Berlin
BEGIN:VEVENT
UID:1775@test.solawi-ruetiwies.ch
DTSTART;TZID=Europe/Berlin:20250126T140000
DTEND;TZID=Europe/Berlin:20250126T183000
DTSTAMP:20250103T084428Z
URL:https://test.solawi-ruetiwies.ch/events/messestand-wil-4/
SUMMARY:Messestand Wil
DESCRIPTION:Wir stellen an der KursNaturmesse in Wil die SOLAWI Rütiwies v
 or. Du betreust mit uns unseren Stand und erzählst Interessierten wie es 
 läuft bei uns :-)
CATEGORIES:Lagergemüse ernten,verschiedene Arbeitseinsätze,Werbeanlass
LOCATION:Solawi Rütiwies\, Rütiwies 1067\, Algetshausen\, 9249\, Schweiz
X-APPLE-STRUCTURED-LOCATION;VALUE=URI;X-ADDRESS=Rütiwies 1067\, Algetshaus
 en\, 9249\, Schweiz;X-APPLE-RADIUS=100;X-TITLE=Solawi Rütiwies:geo:0,0
END:VEVENT
BEGIN:VTIMEZONE
TZID:Europe/Berlin
X-LIC-LOCATION:Europe/Berlin
BEGIN:STANDARD
DTSTART:20241027T020000
TZOFFSETFROM:+0200
TZOFFSETTO:+0100
TZNAME:CET
END:STANDARD
END:VTIMEZONE
END:VCALENDAR