BEGIN:VCALENDAR
VERSION:2.0
PRODID:-//wp-events-plugin.com//7.2.2.1//EN
TZID:Europe/Berlin
X-WR-TIMEZONE:Europe/Berlin
BEGIN:VEVENT
UID:1679@test.solawi-ruetiwies.ch
DTSTART;TZID=Europe/Berlin:20250525T133000
DTEND;TZID=Europe/Berlin:20250525T170000
DTSTAMP:20241119T171902Z
URL:https://test.solawi-ruetiwies.ch/events/mitgliederversammlung-2025/
SUMMARY:Mitgliederversammlung 2025
DESCRIPTION:Weitere Infos folgen. Wir freuen uns auf euch!
CATEGORIES:Vereinsanlässe
LOCATION:Solawi Rütiwies\, Rütiwies 1067\, Algetshausen\, 9249\, Schweiz
X-APPLE-STRUCTURED-LOCATION;VALUE=URI;X-ADDRESS=Rütiwies 1067\, Algetshaus
 en\, 9249\, Schweiz;X-APPLE-RADIUS=100;X-TITLE=Solawi Rütiwies:geo:0,0
END:VEVENT
BEGIN:VTIMEZONE
TZID:Europe/Berlin
X-LIC-LOCATION:Europe/Berlin
BEGIN:DAYLIGHT
DTSTART:20250330T030000
TZOFFSETFROM:+0100
TZOFFSETTO:+0200
TZNAME:CEST
END:DAYLIGHT
END:VTIMEZONE
END:VCALENDAR